BEGIN:VCALENDAR
VERSION:2.0
METHOD:PUBLISH
PRODID:-//Event-List//NONSGML Event-List 5.10.0//DE
X-WR-TIMEZONE:Europe/Berlin
CALSCALE:GREGORIAN
BEGIN:VTIMEZONE
TZID:Europe/Berlin
BEGIN:DAYLIGHT
TZOFFSETFROM:+0100
TZOFFSETTO:+0200
DTSTART:19810329T020000
RRULE:FREQ=YEARLY;BYMONTH=3;BYDAY=-1SU
TZNAME:CEST
END:DAYLIGHT
BEGIN:STANDARD
TZOFFSETFROM:+0200
TZOFFSETTO:+0100
DTSTART:19961027T030000
RRULE:FREQ=YEARLY;BYMONTH=10;BYDAY=-1SU
TZNAME:CET
END:STANDARD
END:VTIMEZONE
BEGIN:VEVENT
DTSTAMP:20260315T093710Z
DTSTART;TZID=Europe/Berlin:20260418T090000
DTEND;TZID=Europe/Berlin:20260418T090000
UID:9@calendar.mfv-achtel.de/
CLASS:PUBLIC
SUMMARY:2. Arbeitseinsatz
DESCRIPTION:2. Termin 18.04.2026: Zaun im Bereich Vorbereitungsraum erneuern.\n\nEs
  sind auch diverse andere Arbeiten vorhanden, wie Hütte und Veranda
  reinigen, Geschirr neu spülen, Fenster Putzen\n\nArbeitskleidung und
  ggf. Handschuhe nicht vergessen.\n\nGeplant ist der Beginn jeweils um 9
  Uhr, über viele positive Rückmeldungen würden wir uns
  freuen.\n\nFür Essen und trinken wird gesorgt.\n\n\n
CONTACT:MFV Achtel\, interne Veranstaltung - nur Mitglieder
LOCATION:Flugplatz
END:VEVENT
END:VCALENDAR
