BEGIN:VCALENDAR
VERSION:2.0
METHOD:PUBLISH
PRODID:-//Event-List//NONSGML Event-List 5.10.0//DE
X-WR-TIMEZONE:Europe/Berlin
CALSCALE:GREGORIAN
BEGIN:VTIMEZONE
TZID:Europe/Berlin
BEGIN:DAYLIGHT
TZOFFSETFROM:+0100
TZOFFSETTO:+0200
DTSTART:19810329T020000
RRULE:FREQ=YEARLY;BYMONTH=3;BYDAY=-1SU
TZNAME:CEST
END:DAYLIGHT
BEGIN:STANDARD
TZOFFSETFROM:+0200
TZOFFSETTO:+0100
DTSTART:19961027T030000
RRULE:FREQ=YEARLY;BYMONTH=10;BYDAY=-1SU
TZNAME:CET
END:STANDARD
END:VTIMEZONE
BEGIN:VEVENT
DTSTAMP:20260314T151736Z
DTSTART;TZID=Europe/Berlin:20260310T200000
DTEND;TZID=Europe/Berlin:20260310T230000
UID:7@calendar.mfv-achtel.de/
CLASS:PUBLIC
SUMMARY:6. Onlinestammtisch DMFV Bayern
DESCRIPTION:\nBesprechungs-ID: 375 170 360 341 9 \nPasscode: Wd72w5BV \n
CONTACT:DMFV
LOCATION:MS Teams\, https://teams.microsoft.com/meet/3751703603419?p=f46xYZOYEb9kJ 1pBg0 
END:VEVENT
END:VCALENDAR
