BEGIN:VCALENDAR
VERSION:2.0
METHOD:PUBLISH
PRODID:-//Event-List//NONSGML Event-List 5.10.0//DE
X-WR-TIMEZONE:Europe/Berlin
CALSCALE:GREGORIAN
BEGIN:VTIMEZONE
TZID:Europe/Berlin
BEGIN:DAYLIGHT
TZOFFSETFROM:+0100
TZOFFSETTO:+0200
DTSTART:19810329T020000
RRULE:FREQ=YEARLY;BYMONTH=3;BYDAY=-1SU
TZNAME:CEST
END:DAYLIGHT
BEGIN:STANDARD
TZOFFSETFROM:+0200
TZOFFSETTO:+0100
DTSTART:19961027T030000
RRULE:FREQ=YEARLY;BYMONTH=10;BYDAY=-1SU
TZNAME:CET
END:STANDARD
END:VTIMEZONE
BEGIN:VEVENT
DTSTAMP:20260208T093035Z
DTSTART;TZID=Europe/Berlin:20260516T090000
DTEND;TZID=Europe/Berlin:20260516T090000
UID:4@calendar.mfv-achtel.de/
CLASS:PUBLIC
SUMMARY:Freundschaftsfliegen
DESCRIPTION:Hallo Freunde des MFV Achtel,\nwir veranstalten auch 2026 wieder ein
  Freundschaftsfliegen und ein Jugendtreffen, in der Anlage die
  Einladung.\nFreuen uns auf ein wiedersehen und ein zwangloses
  Treffen.\nAnmeldung/Rückmeldung bitte an: Vorstand@mfv-achtel.de
CONTACT:MFV Achtel e.V.
LOCATION:Flugplatz MFV Achtel
END:VEVENT
END:VCALENDAR
