BEGIN:VCALENDAR
VERSION:2.0
METHOD:PUBLISH
PRODID:-//Event-List//NONSGML Event-List 5.10.0//DE
X-WR-TIMEZONE:Europe/Berlin
CALSCALE:GREGORIAN
BEGIN:VTIMEZONE
TZID:Europe/Berlin
BEGIN:DAYLIGHT
TZOFFSETFROM:+0100
TZOFFSETTO:+0200
DTSTART:19810329T020000
RRULE:FREQ=YEARLY;BYMONTH=3;BYDAY=-1SU
TZNAME:CEST
END:DAYLIGHT
BEGIN:STANDARD
TZOFFSETFROM:+0200
TZOFFSETTO:+0100
DTSTART:19961027T030000
RRULE:FREQ=YEARLY;BYMONTH=10;BYDAY=-1SU
TZNAME:CET
END:STANDARD
END:VTIMEZONE
BEGIN:VEVENT
DTSTAMP:20260414T174531Z
DTSTART;TZID=Europe/Berlin:20260621T100000
DTEND;TZID=Europe/Berlin:20260621T100000
UID:12@calendar.mfv-achtel.de/
CLASS:PUBLIC
SUMMARY:50 Jähriges Jubiläum 1. MFSC Amberg
DESCRIPTION:50 jähriges Bestehen des 1.MFSC Amberg\nFreies fliegen am 20. und 21.
  Juni ab 10 Uhr\nCampen für Piloten ab 19.06 möglich
CONTACT:MSCF Amberg
LOCATION:MSCF Amberg
END:VEVENT
END:VCALENDAR
