BEGIN:VCALENDAR
VERSION:2.0
METHOD:PUBLISH
PRODID:-//Event-List//NONSGML Event-List 5.10.0//DE
X-WR-TIMEZONE:Europe/Berlin
CALSCALE:GREGORIAN
BEGIN:VTIMEZONE
TZID:Europe/Berlin
BEGIN:DAYLIGHT
TZOFFSETFROM:+0100
TZOFFSETTO:+0200
DTSTART:19810329T020000
RRULE:FREQ=YEARLY;BYMONTH=3;BYDAY=-1SU
TZNAME:CEST
END:DAYLIGHT
BEGIN:STANDARD
TZOFFSETFROM:+0200
TZOFFSETTO:+0100
DTSTART:19961027T030000
RRULE:FREQ=YEARLY;BYMONTH=10;BYDAY=-1SU
TZNAME:CET
END:STANDARD
END:VTIMEZONE
BEGIN:VEVENT
DTSTAMP:20260414T173819Z
DTSTART;TZID=Europe/Berlin:20260513T190000
DTEND;TZID=Europe/Berlin:20260513T190000
UID:10@calendar.mfv-achtel.de/
CLASS:PUBLIC
SUMMARY:Außerordentliche Mitgliederversammlung
DESCRIPTION:Außerordentliche Mitgliederversammlung - intern nur für
  Mitglieder\nsiehe Mail vom: 12.04.2026
CONTACT:MFV Achtel
LOCATION:MFV Achtel\, Vereinshütte
END:VEVENT
END:VCALENDAR
